BEGIN:VCALENDAR
VERSION:2.0
PRODID:-//Comité de badminton du Cher - ECPv6.8.1//NONSGML v1.0//EN
CALSCALE:GREGORIAN
METHOD:PUBLISH
X-ORIGINAL-URL:https://cdbad18.org
X-WR-CALDESC:Évènements pour Comité de badminton du Cher
REFRESH-INTERVAL;VALUE=DURATION:PT1H
X-Robots-Tag:noindex
X-PUBLISHED-TTL:PT1H
BEGIN:VTIMEZONE
TZID:Europe/Paris
BEGIN:DAYLIGHT
TZOFFSETFROM:+0100
TZOFFSETTO:+0200
TZNAME:CEST
DTSTART:20220327T010000
END:DAYLIGHT
BEGIN:STANDARD
TZOFFSETFROM:+0200
TZOFFSETTO:+0100
TZNAME:CET
DTSTART:20221030T010000
END:STANDARD
END:VTIMEZONE
BEGIN:VEVENT
DTSTART;VALUE=DATE:20220330
DTEND;VALUE=DATE:20220404
DTSTAMP:20260420T061420
CREATED:20211005T125327Z
LAST-MODIFIED:20211006T133135Z
UID:1078-1648598400-1649030399@cdbad18.org
SUMMARY:Orléans Master
DESCRIPTION:
URL:https://cdbad18.org/evenement/orleans-master/
LOCATION:Orléans\, France
CATEGORIES:Temps forts – Évènements
END:VEVENT
BEGIN:VEVENT
DTSTART;VALUE=DATE:20220402
DTEND;VALUE=DATE:20220404
DTSTAMP:20260420T061420
CREATED:20211005T125327Z
LAST-MODIFIED:20211006T133135Z
UID:1077-1648857600-1649030399@cdbad18.org
SUMMARY:BNP
DESCRIPTION:
URL:https://cdbad18.org/evenement/bnp/
LOCATION:Bourges\, 18000 Bourges\, France
CATEGORIES:Temps forts – Évènements
END:VEVENT
END:VCALENDAR