BEGIN:VCALENDAR
VERSION:2.0
PRODID:-//Comité de badminton du Cher - ECPv6.8.1//NONSGML v1.0//EN
CALSCALE:GREGORIAN
METHOD:PUBLISH
X-ORIGINAL-URL:https://cdbad18.org
X-WR-CALDESC:Évènements pour Comité de badminton du Cher
REFRESH-INTERVAL;VALUE=DURATION:PT1H
X-Robots-Tag:noindex
X-PUBLISHED-TTL:PT1H
BEGIN:VTIMEZONE
TZID:Europe/Paris
BEGIN:DAYLIGHT
TZOFFSETFROM:+0100
TZOFFSETTO:+0200
TZNAME:CEST
DTSTART:20210328T010000
END:DAYLIGHT
BEGIN:STANDARD
TZOFFSETFROM:+0200
TZOFFSETTO:+0100
TZNAME:CET
DTSTART:20211031T010000
END:STANDARD
END:VTIMEZONE
BEGIN:VEVENT
DTSTART;TZID=Europe/Paris:20211110T140000
DTEND;TZID=Europe/Paris:20211110T170000
DTSTAMP:20260420T134128
CREATED:20211005T125327Z
LAST-MODIFIED:20211006T133135Z
UID:1072-1636552800-1636563600@cdbad18.org
SUMMARY:Détection départementale
DESCRIPTION:
URL:https://cdbad18.org/evenement/detection-departementale/
LOCATION:Bourges\, 18000 Bourges\, France
CATEGORIES:Temps forts – Évènements
END:VEVENT
BEGIN:VEVENT
DTSTART;VALUE=DATE:20211115
DTEND;VALUE=DATE:20211122
DTSTAMP:20260420T134128
CREATED:20211005T125327Z
LAST-MODIFIED:20211006T133135Z
UID:1073-1636934400-1637539199@cdbad18.org
SUMMARY:Ba(d)ssin en fête
DESCRIPTION:
URL:https://cdbad18.org/evenement/badssin-en-fete/
CATEGORIES:Temps forts – Évènements
END:VEVENT
END:VCALENDAR